BEGIN:VCALENDAR
VERSION:2.0
PRODID:-//Brahmakumaris Biratnagar - ECPv4.9.3.2//NONSGML v1.0//EN
CALSCALE:GREGORIAN
METHOD:PUBLISH
X-WR-CALNAME:Brahmakumaris Biratnagar
X-ORIGINAL-URL:https://biratnagar.bk.ooo
X-WR-CALDESC:Events for Brahmakumaris Biratnagar
BEGIN:VEVENT
DTSTART;TZID=UTC+0:20190502T110000
DTEND;TZID=UTC+0:20190502T130000
DTSTAMP:20260420T134619
CREATED:20190430T113658Z
LAST-MODIFIED:20190430T113815Z
UID:192-1556794800-1556802000@biratnagar.bk.ooo
SUMMARY:Brahmakumari Rajyog Upa-Sewa Kendra Khanar | Shifting to a new block. A warm invitation to all.
DESCRIPTION:
URL:https://biratnagar.bk.ooo/event/brahmakumari-rajyog-upa-sewa-kendra-khanar-shifting-to-a-new-block-a-warm-invitation-to-all-https-goo-gl-maps-zf7ca6s9df42ozqt6/
LOCATION:https://goo.gl/maps/zf7ca6s9Df42oZQt6
ATTACH;FMTTYPE=image/jpeg:https://biratnagar.bk.ooo/wp-content/uploads/sites/191/2019/04/WhatsApp-Image-2019-04-30-at-4.50.22-PM.jpeg
END:VEVENT
END:VCALENDAR